BEGIN:VCALENDAR
VERSION:2.0
PRODID:-//ChamberMaster//Event Calendar 2.0//EN
METHOD:PUBLISH
X-PUBLISHED-TTL:P3D
REFRESH-INTERVAL:P3D
CALSCALE:GREGORIAN
BEGIN:VEVENT
DTSTART:20250704T200000Z
DTEND:20250704T230000Z
X-MICROSOFT-CDO-ALLDAYEVENT:FALSE
SUMMARY:Ranch Rodeo-Range Call
DESCRIPTION:
X-ALT-DESC;FMTTYPE=text/html:
LOCATION:
UID:e.339.7717
SEQUENCE:3
DTSTAMP:20260422T062504Z
URL:http://meekerchamber.chambermaster.com/events/details/ranch-rodeo-range-call-7717
END:VEVENT

END:VCALENDAR
