BEGIN:VCALENDAR
VERSION:2.0
PRODID:-//ChamberMaster//Event Calendar 2.0//EN
METHOD:PUBLISH
X-PUBLISHED-TTL:P3D
REFRESH-INTERVAL:P3D
CALSCALE:GREGORIAN
BEGIN:VEVENT
DTSTART:20250130T150000Z
DTEND:20250130T190000Z
X-MICROSOFT-CDO-ALLDAYEVENT:FALSE
SUMMARY:Customer Service Training
DESCRIPTION:Get ready to take your customer service skills to the next level!\n\n\n\nOutstanding customer service will set you and your business apart\, and transform your career! Join us for this fun\, engaging class\, led by Ryan Murray of LearnBiz. This class is FREE and coffee and lunch are provided\, thanks to our sponsor Colorado Housing and Finance Authority and our Medallion Members. \n\nWin some prizes too!\n\n\n\nGreat for business owners\, staff\, and anyone who deals with customers!\n\nRegister below - ITS FREE\n\n\n\n"75% of consumers will spend more when they have a good customer experience"
X-ALT-DESC;FMTTYPE=text/html:<strong>Get ready to take your customer service skills to the next level!</strong><br />\n<br />\nOutstanding customer service will set you and your business apart\, and transform your career! Join us for this fun\, engaging class\, led by Ryan Murray of LearnBiz. This class is FREE and coffee and lunch are provided\, thanks to our sponsor Colorado Housing and Finance Authority and our Medallion Members.&nbsp\;<br />\nWin some prizes too!<br />\n<br />\nGreat for business owners\, staff\, and anyone who deals with customers!<br />\nRegister below - ITS FREE<br />\n<br />\n<strong>&quot\;75% of consumers will spend more when they have a good customer experience&quot\;</strong>
LOCATION:Meeker Business Center 345 Market Street Meeker CO
UID:e.339.12812
SEQUENCE:3
DTSTAMP:20260425T224739Z
URL:http://meekerchamber.chambermaster.com/events/details/customer-service-training-12812
END:VEVENT

END:VCALENDAR
