BEGIN:VCALENDAR
VERSION:2.0
PRODID:-//ChamberMaster//Event Calendar 2.0//EN
METHOD:PUBLISH
X-PUBLISHED-TTL:P3D
REFRESH-INTERVAL:P3D
CALSCALE:GREGORIAN
BEGIN:VEVENT
DTSTART:20250706T040000Z
DTEND:20250705T060000Z
X-MICROSOFT-CDO-ALLDAYEVENT:FALSE
SUMMARY:Barn Dance-Range Call
DESCRIPTION:
X-ALT-DESC;FMTTYPE=text/html:
LOCATION:Rio Blanco County Fairgrounds 700 Sulphur Creek Rd Meeker\, CO 81641
UID:e.339.7722
SEQUENCE:3
DTSTAMP:20260422T062234Z
URL:http://meekerchamber.chambermaster.com/events/details/barn-dance-range-call-7722
END:VEVENT

END:VCALENDAR
